BEGIN:VCALENDAR
VERSION:2.0
PRODID:-//wp-events-plugin.com//7.2.3.1//EN
TZID:Europe/Paris
X-WR-TIMEZONE:Europe/Paris
BEGIN:VEVENT
UID:287@amisplegiques.fr
DTSTART;TZID=Europe/Paris;VALUE=DATE:20240907
DTEND;TZID=Europe/Paris;VALUE=DATE:20240908
DTSTAMP:20240822T114008Z
URL:https://amisplegiques.fr/events/action-de-sensibilisation/
SUMMARY:Action de sensibilisation
DESCRIPTION:Objectif : Participer aux actions de sensibilisation menées pa
 r l’association\nDate : Samedi 7 septembre 2024 Forum des Associations d
 ’Auzeville Tolosane\nLieu : Salle de la Durante\, 1 Chemin du Moulin Arm
 and 31320 à Auzeville Tolosane
ATTACH;FMTTYPE=image/jpeg:https://amisplegiques.fr/wp-content/uploads/2022
 /09/conference.jpg
END:VEVENT
BEGIN:VTIMEZONE
TZID:Europe/Paris
X-LIC-LOCATION:Europe/Paris
BEGIN:DAYLIGHT
DTSTART:20240331T030000
TZOFFSETFROM:+0100
TZOFFSETTO:+0200
TZNAME:CEST
END:DAYLIGHT
END:VTIMEZONE
END:VCALENDAR