BEGIN:VCALENDAR
VERSION:2.0
PRODID:-//wp-events-plugin.com//7.2.3.1//EN
TZID:Europe/Paris
X-WR-TIMEZONE:Europe/Paris
BEGIN:VEVENT
UID:3@amisplegiques.fr
DTSTART;TZID=Europe/Paris:20221028T150000
DTEND;TZID=Europe/Paris:20221028T163000
DTSTAMP:20221027T081842Z
URL:https://amisplegiques.fr/events/actions-de-sensibilisation/
SUMMARY:Actions de sensibilisation
DESCRIPTION:Objectif : participer aux actions de sensibilisation menées pa
 r l’association aux côtés de Sandrine Laran\, patiente experte et pré
 sidente de l’association.\n28 octobre de 15h00 à 16h30 : Veille de la J
 ournée Mondiale de l’AVC.\nDiffusion en visio-conférence de la captati
 on de la pièce de théâtre « Les hémiplégiques ne font pas les choses
  à moitié ! » (35 minutes). Ce moment sera suivie d’échanges et de p
 artages avec Sandrine Laran et les participants.\n\nPour vous inscrire : c
 ontactez nous sur amisplegiques@yahoo.fr\n\nCette pièce de théâtre donn
 e du handicap et des personnes handicapées une image positive et vivante.
 \nElle permet de rire du handicap\, avec le handicap\, autour du handicap\
 , de ne pas avoir peur du handicap\, en utilisant des situations qui ont p
 u sur le moment paraître ridicules\, humiliantes\, elle permet de faire d
 u handicap une force\, de le transformer en énergie.\nElle encourage la v
 erbalisation du handicap\, de son acceptation et du « vivre avec ».\nEll
 e a permis à des personnes hémiplégiques de se mettre en scène\, de mo
 nter sur scène pour montrer et utiliser leur handicap (il est pourtant pa
 rfois difficile de l’assumer)\, de se donner en spectacle (il est pourta
 nt parfois difficile\, dans la vie quotidienne\, de supporter le regard de
 s autres)\, et d’accepter de s’en amuser (il est pourtant parfois tent
 ant de s’en plaindre).\nElle démontre qu’une personne handicapée peu
 t relever des Défis\, et les remporter.\nElle participe à\, et encourage
 \, la resocialisation de personnes handicapées par une activité ludique\
 , de groupe\, exigeante en terme de travail\, d’engagements\, pour sorti
 r\, agir\, vivre comme tout le monde\, au milieu des autres\, pour constru
 ire\, créer\, se projeter.\nC'était notre défi de l'année 2015 !
ATTACH;FMTTYPE=image/jpeg:https://amisplegiques.fr/wp-content/uploads/2022
 /09/conference.jpg
END:VEVENT
BEGIN:VTIMEZONE
TZID:Europe/Paris
X-LIC-LOCATION:Europe/Paris
BEGIN:DAYLIGHT
DTSTART:20220327T030000
TZOFFSETFROM:+0100
TZOFFSETTO:+0200
TZNAME:CEST
END:DAYLIGHT
END:VTIMEZONE
END:VCALENDAR