BEGIN:VCALENDAR
VERSION:2.0
PRODID:-//wp-events-plugin.com//7.2.3.1//EN
TZID:Europe/Paris
X-WR-TIMEZONE:Europe/Paris
BEGIN:VEVENT
UID:2@amisplegiques.fr
DTSTART;TZID=Europe/Paris;VALUE=DATE:20220920
DTEND;TZID=Europe/Paris;VALUE=DATE:20220923
DTSTAMP:20220907T102940Z
URL:https://amisplegiques.fr/events/defi-2022-et-toi-tu-fais-comment-pour-
 vivre-avec/
SUMMARY:Défi 2022 : Et toi ? Tu fais comment pour vivre avec ?
DESCRIPTION:Objectifs : 3 jours entre pairs\, partage du quotidien\, décou
 verte culturelle et sportive\nLieu : Les Gîtes de la Peyre 82500 Escazeau
 x\nDate : 20\, 21 et 22 septembre 2022 (trois jours et deux nuits)\nSéjou
 r dans un gîte du Tarn et Garonne\nIntervenants : Thomas Labescat Enseign
 ant APA-S\, Benjamin Fry Chercheur en Sciences sociales et Jean-Michel Cai
 re directeur de l’Institut d’ergothérapie de Toulouse\n\nInscrivez-vo
 us en cliquant-ici
ATTACH;FMTTYPE=image/jpeg:https://amisplegiques.fr/wp-content/uploads/2022
 /09/defi.jpg
END:VEVENT
BEGIN:VTIMEZONE
TZID:Europe/Paris
X-LIC-LOCATION:Europe/Paris
BEGIN:DAYLIGHT
DTSTART:20220327T030000
TZOFFSETFROM:+0100
TZOFFSETTO:+0200
TZNAME:CEST
END:DAYLIGHT
END:VTIMEZONE
END:VCALENDAR