BEGIN:VCALENDAR
VERSION:2.0
PRODID:-//wp-events-plugin.com//7.2.3.1//EN
TZID:Europe/Paris
X-WR-TIMEZONE:Europe/Paris
BEGIN:VEVENT
UID:421@amisplegiques.fr
DTSTART;TZID=Europe/Paris:20260607T103000
DTEND;TZID=Europe/Paris:20260607T150000
DTSTAMP:20260114T150515Z
URL:https://amisplegiques.fr/events/journee-pique-nique-tricycle-2/
SUMMARY:Journée Pique-nique / tricycle
DESCRIPTION:Objectif : se retrouver tous ensemble pour profiter d’une bel
 le journée et initiation tricycle Lieu : Ferme des Cinquante\, Chemin de 
 Mange Pommes\, 31520 Ramonville St-Agne\nDate : dimanche 07 juin 2026 de 1
 0h30 à 15h00\nChacun apporte son pique-nique et sa chaise\n\ninscriptions
  : cliquez-ici
ATTACH;FMTTYPE=image/jpeg:https://amisplegiques.fr/wp-content/uploads/2022
 /09/pique-nique.jpg
END:VEVENT
BEGIN:VTIMEZONE
TZID:Europe/Paris
X-LIC-LOCATION:Europe/Paris
BEGIN:DAYLIGHT
DTSTART:20260329T030000
TZOFFSETFROM:+0100
TZOFFSETTO:+0200
TZNAME:CEST
END:DAYLIGHT
END:VTIMEZONE
END:VCALENDAR