BEGIN:VCALENDAR
VERSION:2.0
PRODID:-//wp-events-plugin.com//7.2.3.1//EN
TZID:Europe/Paris
X-WR-TIMEZONE:Europe/Paris
BEGIN:VEVENT
UID:1@amisplegiques.fr
DTSTART;TZID=Europe/Paris:20220911T100000
DTEND;TZID=Europe/Paris:20220911T150000
DTSTAMP:20220907T094709Z
URL:https://amisplegiques.fr/events/journee-pique-nique/
SUMMARY:Journée Pique-nique
DESCRIPTION:Objectif : fêter la rentrée\, se retrouver et accueillir les 
 nouveaux adhérents\nLieu : Ferme des Cinquante\, Chemin de Mange Pommes\,
  31520 Ramonville St-Agne\nDate : dimanche 11 septembre 2022 10h00 à 15h0
 0\nChacun apporte son pique-nique et sa chaise\n\nInscrivez-vous en cliqua
 nt-ici
ATTACH;FMTTYPE=image/jpeg:https://amisplegiques.fr/wp-content/uploads/2022
 /09/pique-nique.jpg
END:VEVENT
BEGIN:VTIMEZONE
TZID:Europe/Paris
X-LIC-LOCATION:Europe/Paris
BEGIN:DAYLIGHT
DTSTART:20220327T030000
TZOFFSETFROM:+0100
TZOFFSETTO:+0200
TZNAME:CEST
END:DAYLIGHT
END:VTIMEZONE
END:VCALENDAR