BEGIN:VCALENDAR
VERSION:2.0
PRODID:-//wp-events-plugin.com//7.2.3.1//EN
TZID:Europe/Paris
X-WR-TIMEZONE:Europe/Paris
BEGIN:VEVENT
UID:203@amisplegiques.fr
DTSTART;TZID=Europe/Paris;VALUE=DATE:20231204
DTEND;TZID=Europe/Paris;VALUE=DATE:20231205
DTSTAMP:20230828T123530Z
URL:https://amisplegiques.fr/events/sensibilisation-5/
SUMMARY:Sensibilisation
DESCRIPTION:Objectif : Accompagner Sandrine Laran (patiente partenaire en s
 anté et présidente de l’association) et participer aux actions de sens
 ibilisation menées par l’association\n➢ Samedi 9 septembre 2023 : 9-1
 2h Forum des Associations Auzeville (Parc La Durante)\n➢ Jeudi 14 septem
 bre 2023 : 12 à 16h Forum des Associations CHU Toulouse Rangueil\n➢ Lun
 di 4 décembre 2023 : Clinique Monié Journée des Associations (Handicap)
ATTACH;FMTTYPE=image/jpeg:https://amisplegiques.fr/wp-content/uploads/2022
 /12/sensibilisation.jpg
END:VEVENT
BEGIN:VTIMEZONE
TZID:Europe/Paris
X-LIC-LOCATION:Europe/Paris
BEGIN:STANDARD
DTSTART:20231029T020000
TZOFFSETFROM:+0200
TZOFFSETTO:+0100
TZNAME:CET
END:STANDARD
END:VTIMEZONE
END:VCALENDAR